BEGIN:VCALENDAR
VERSION:2.0
PRODID:-//L&#039;écran du Son - ECPv6.15.20//NONSGML v1.0//EN
CALSCALE:GREGORIAN
METHOD:PUBLISH
X-ORIGINAL-URL:https://ecran-du-son.com
X-WR-CALDESC:Évènements pour L&#039;écran du Son
REFRESH-INTERVAL;VALUE=DURATION:PT1H
X-Robots-Tag:noindex
X-PUBLISHED-TTL:PT1H
BEGIN:VTIMEZONE
TZID:Europe/Paris
BEGIN:DAYLIGHT
TZOFFSETFROM:+0100
TZOFFSETTO:+0200
TZNAME:CEST
DTSTART:20250330T010000
END:DAYLIGHT
BEGIN:STANDARD
TZOFFSETFROM:+0200
TZOFFSETTO:+0100
TZNAME:CET
DTSTART:20251026T010000
END:STANDARD
BEGIN:DAYLIGHT
TZOFFSETFROM:+0100
TZOFFSETTO:+0200
TZNAME:CEST
DTSTART:20260329T010000
END:DAYLIGHT
BEGIN:STANDARD
TZOFFSETFROM:+0200
TZOFFSETTO:+0100
TZNAME:CET
DTSTART:20261025T010000
END:STANDARD
BEGIN:DAYLIGHT
TZOFFSETFROM:+0100
TZOFFSETTO:+0200
TZNAME:CEST
DTSTART:20270328T010000
END:DAYLIGHT
BEGIN:STANDARD
TZOFFSETFROM:+0200
TZOFFSETTO:+0100
TZNAME:CET
DTSTART:20271031T010000
END:STANDARD
END:VTIMEZONE
BEGIN:VEVENT
DTSTART;TZID=Europe/Paris:20260424T183000
DTEND;TZID=Europe/Paris:20260424T183000
DTSTAMP:20260422T123634
CREATED:20260411T083311Z
LAST-MODIFIED:20260411T083327Z
UID:60670-1777055400-1777055400@ecran-du-son.com
SUMMARY:The Glamss
DESCRIPTION:18h30 Happy Hour\n 20h00 Concert The Glamss\nReprises Pop-Rock & Variété\n\n\n Planches à partager\n\n\nRéservez-vite votre table \n05 59 06 57 07
URL:https://ecran-du-son.com/event/the-glamss/
LOCATION:Le Bistrot du Pradeau / Gelos\, Square Edouard Herriot\, Gelos\, 64110\, France
CATEGORIES:Gratuit
END:VEVENT
BEGIN:VEVENT
DTSTART;TZID=Europe/Paris:20260425T210000
DTEND;TZID=Europe/Paris:20260425T210000
DTSTAMP:20260422T123634
CREATED:20260415T124707Z
LAST-MODIFIED:20260415T124710Z
UID:60705-1777150800-1777150800@ecran-du-son.com
SUMMARY:Infinity
DESCRIPTION:reprises pop rock
URL:https://ecran-du-son.com/event/infinity/
LOCATION:Jam Pub / Lescar\, 8 avenue André Marie Ampère\, Lescar\, 64230\, France
CATEGORIES:Gratuit
END:VEVENT
BEGIN:VEVENT
DTSTART;TZID=Europe/Paris:20260426T110000
DTEND;TZID=Europe/Paris:20260426T170000
DTSTAMP:20260422T123634
CREATED:20260119T063137Z
LAST-MODIFIED:20260119T063137Z
UID:60020-1777201200-1777222800@ecran-du-son.com
SUMMARY:Deneb Duo
DESCRIPTION:oud / contrebasse\nSi le duo Deneb devait se résumer en une seule image\, ce serait une carte postale à la fois nostalgique et futuriste d’un Orient fantasmé. Ici oud et contrebasse dialoguent pour servir une narration ancrée dans un ici lointain\, à moins que ce ne soit l’ailleurs qui soit proche.
URL:https://ecran-du-son.com/event/deneb-duo/
LOCATION:Médiathèque André Labarrère / Pau\, Place Marguerite Laborde\, Pau\, 64000\, France
CATEGORIES:Gratuit
END:VEVENT
END:VCALENDAR