BEGIN:VCALENDAR
VERSION:2.0
PRODID:-//L&#039;écran du Son - ECPv6.15.20//NONSGML v1.0//EN
CALSCALE:GREGORIAN
METHOD:PUBLISH
X-WR-CALNAME:L&#039;écran du Son
X-ORIGINAL-URL:https://ecran-du-son.com
X-WR-CALDESC:Évènements pour L&#039;écran du Son
REFRESH-INTERVAL;VALUE=DURATION:PT1H
X-Robots-Tag:noindex
X-PUBLISHED-TTL:PT1H
BEGIN:VTIMEZONE
TZID:Europe/Paris
BEGIN:DAYLIGHT
TZOFFSETFROM:+0100
TZOFFSETTO:+0200
TZNAME:CEST
DTSTART:20250330T010000
END:DAYLIGHT
BEGIN:STANDARD
TZOFFSETFROM:+0200
TZOFFSETTO:+0100
TZNAME:CET
DTSTART:20251026T010000
END:STANDARD
BEGIN:DAYLIGHT
TZOFFSETFROM:+0100
TZOFFSETTO:+0200
TZNAME:CEST
DTSTART:20260329T010000
END:DAYLIGHT
BEGIN:STANDARD
TZOFFSETFROM:+0200
TZOFFSETTO:+0100
TZNAME:CET
DTSTART:20261025T010000
END:STANDARD
BEGIN:DAYLIGHT
TZOFFSETFROM:+0100
TZOFFSETTO:+0200
TZNAME:CEST
DTSTART:20270328T010000
END:DAYLIGHT
BEGIN:STANDARD
TZOFFSETFROM:+0200
TZOFFSETTO:+0100
TZNAME:CET
DTSTART:20271031T010000
END:STANDARD
END:VTIMEZONE
BEGIN:VEVENT
DTSTART;TZID=Europe/Paris:20260208T110000
DTEND;TZID=Europe/Paris:20260208T170000
DTSTAMP:20260422T162804
CREATED:20260119T061711Z
LAST-MODIFIED:20260119T061711Z
UID:60008-1770548400-1770570000@ecran-du-son.com
SUMMARY:Trio Bahia (jazz)
DESCRIPTION:Ce trio guitare / contrebasse /percussions mêle le jazz à la samba\, le funk ou le rock pour une musique basée sur l’improvisation et le dialogue entre musiciens.
URL:https://ecran-du-son.com/event/trio-bahia-jazz/
LOCATION:Médiathèque André Labarrère / Pau\, Place Marguerite Laborde\, Pau\, 64000\, France
CATEGORIES:Gratuit
END:VEVENT
END:VCALENDAR