BEGIN:VCALENDAR
VERSION:2.0
PRODID:-//L&#039;écran du Son - ECPv6.15.20//NONSGML v1.0//EN
CALSCALE:GREGORIAN
METHOD:PUBLISH
X-ORIGINAL-URL:https://ecran-du-son.com
X-WR-CALDESC:Évènements pour L&#039;écran du Son
REFRESH-INTERVAL;VALUE=DURATION:PT1H
X-Robots-Tag:noindex
X-PUBLISHED-TTL:PT1H
BEGIN:VTIMEZONE
TZID:Europe/Paris
BEGIN:DAYLIGHT
TZOFFSETFROM:+0100
TZOFFSETTO:+0200
TZNAME:CEST
DTSTART:20250330T010000
END:DAYLIGHT
BEGIN:STANDARD
TZOFFSETFROM:+0200
TZOFFSETTO:+0100
TZNAME:CET
DTSTART:20251026T010000
END:STANDARD
BEGIN:DAYLIGHT
TZOFFSETFROM:+0100
TZOFFSETTO:+0200
TZNAME:CEST
DTSTART:20260329T010000
END:DAYLIGHT
BEGIN:STANDARD
TZOFFSETFROM:+0200
TZOFFSETTO:+0100
TZNAME:CET
DTSTART:20261025T010000
END:STANDARD
BEGIN:DAYLIGHT
TZOFFSETFROM:+0100
TZOFFSETTO:+0200
TZNAME:CEST
DTSTART:20270328T010000
END:DAYLIGHT
BEGIN:STANDARD
TZOFFSETFROM:+0200
TZOFFSETTO:+0100
TZNAME:CET
DTSTART:20271031T010000
END:STANDARD
END:VTIMEZONE
BEGIN:VEVENT
DTSTART;TZID=Europe/Paris:20260102T163000
DTEND;TZID=Europe/Paris:20260102T163000
DTSTAMP:20260422T162805
CREATED:20251207T191746Z
LAST-MODIFIED:20251207T191746Z
UID:59741-1767371400-1767371400@ecran-du-son.com
SUMMARY:Hots Dogs
DESCRIPTION:
URL:https://ecran-du-son.com/event/hots-dogs/
LOCATION:Place Clémenceau / Pau\, Place Clémenceau\, Pau\, 64000\, France
CATEGORIES:Gratuit
END:VEVENT
BEGIN:VEVENT
DTSTART;TZID=Europe/Paris:20260103T163000
DTEND;TZID=Europe/Paris:20260103T163000
DTSTAMP:20260422T162805
CREATED:20251207T191746Z
LAST-MODIFIED:20251207T191746Z
UID:59742-1767457800-1767457800@ecran-du-son.com
SUMMARY:Yesterdays
DESCRIPTION:
URL:https://ecran-du-son.com/event/yesterdays/
LOCATION:Place Clémenceau / Pau\, Place Clémenceau\, Pau\, 64000\, France
CATEGORIES:Gratuit
END:VEVENT
BEGIN:VEVENT
DTSTART;TZID=Europe/Paris:20260103T210000
DTEND;TZID=Europe/Paris:20260103T210000
DTSTAMP:20260422T162805
CREATED:20260103T095207Z
LAST-MODIFIED:20260103T095215Z
UID:59909-1767474000-1767474000@ecran-du-son.com
SUMMARY:Wild Blue Berry
DESCRIPTION:
URL:https://ecran-du-son.com/event/wild-blue-berry-2/
LOCATION:Jam Pub / Lescar\, 8 avenue André Marie Ampère\, Lescar\, 64230\, France
CATEGORIES:Gratuit
END:VEVENT
BEGIN:VEVENT
DTSTART;TZID=Europe/Paris:20260104T110000
DTEND;TZID=Europe/Paris:20260104T170000
DTSTAMP:20260422T162805
CREATED:20260102T192801Z
LAST-MODIFIED:20260102T192806Z
UID:59898-1767524400-1767546000@ecran-du-son.com
SUMMARY:Sebbens
DESCRIPTION:
URL:https://ecran-du-son.com/event/sebbens/
LOCATION:Halles de Pau\, Place de la République\, Pau
CATEGORIES:Gratuit
END:VEVENT
BEGIN:VEVENT
DTSTART;TZID=Europe/Paris:20260109T203000
DTEND;TZID=Europe/Paris:20260109T203000
DTSTAMP:20260422T162805
CREATED:20251212T105940Z
LAST-MODIFIED:20251212T105958Z
UID:59771-1767990600-1767990600@ecran-du-son.com
SUMMARY:CONCERT EL CAMINO
DESCRIPTION:L’Etablissement Public de Coopération Culturelle regroupe l’Orchestre de Pau Pays de Béarn\net l’Orchestre de jeunes El camino. Il développe un projet culturel\, artistique et pédagogique ambitieux sur le territoire sud Aquitain\, portant l’émotion musicale à la portée de tous les publics. \nConcert gratuit sur réservation
URL:https://ecran-du-son.com/event/concert-el-camino/
LOCATION:Zénith de Pau\, rue Suzanne Bacarisse\, Pau\, 64000\, France
CATEGORIES:Gratuit
END:VEVENT
BEGIN:VEVENT
DTSTART;TZID=Europe/Paris:20260109T210000
DTEND;TZID=Europe/Paris:20260109T210000
DTSTAMP:20260422T162805
CREATED:20260108T141258Z
LAST-MODIFIED:20260108T141314Z
UID:59936-1767992400-1767992400@ecran-du-son.com
SUMMARY:Ricky Amigos
DESCRIPTION:Ricky (chant – guitare flamenco)\n\n\nXavier Dominguez (guitare électrique)\n\n\nLaurent Ferratges ( basses – choeurs )\n\n\nPatrice Haillet ( batterie)
URL:https://ecran-du-son.com/event/ricky-amigos-2/
LOCATION:Red Lion / Pau\, 8 rue Lapouble\, Pau\, 64000\, France
CATEGORIES:Gratuit
END:VEVENT
BEGIN:VEVENT
DTSTART;TZID=Europe/Paris:20260111T110000
DTEND;TZID=Europe/Paris:20260111T170000
DTSTAMP:20260422T162805
CREATED:20260102T192839Z
LAST-MODIFIED:20260102T192844Z
UID:59901-1768129200-1768150800@ecran-du-son.com
SUMMARY:Black Lights
DESCRIPTION:
URL:https://ecran-du-son.com/event/black-lights/
LOCATION:Halles de Pau\, Place de la République\, Pau
CATEGORIES:Gratuit
END:VEVENT
BEGIN:VEVENT
DTSTART;TZID=Europe/Paris:20260116T190000
DTEND;TZID=Europe/Paris:20260116T190000
DTSTAMP:20260422T162805
CREATED:20260113T101649Z
LAST-MODIFIED:20260113T101656Z
UID:59989-1768590000-1768590000@ecran-du-son.com
SUMMARY:Mad Daddy and his Monkeys
DESCRIPTION:Rockabilly\, rock’n’roll
URL:https://ecran-du-son.com/event/mad-daddy-and-his-monkeys/
LOCATION:L’After Work\, 173 Av. Normandie Niemen\, Serres-Castet\, 64121\, France
CATEGORIES:Gratuit
END:VEVENT
BEGIN:VEVENT
DTSTART;TZID=Europe/Paris:20260118T110000
DTEND;TZID=Europe/Paris:20260118T170000
DTSTAMP:20260422T162805
CREATED:20260102T192926Z
LAST-MODIFIED:20260102T192931Z
UID:59903-1768734000-1768755600@ecran-du-son.com
SUMMARY:Thom A
DESCRIPTION:
URL:https://ecran-du-son.com/event/thom-a/
LOCATION:Halles de Pau\, Place de la République\, Pau
CATEGORIES:Gratuit
END:VEVENT
BEGIN:VEVENT
DTSTART;TZID=Europe/Paris:20260118T110000
DTEND;TZID=Europe/Paris:20260118T170000
DTSTAMP:20260422T162805
CREATED:20260108T141341Z
LAST-MODIFIED:20260108T141359Z
UID:59938-1768734000-1768755600@ecran-du-son.com
SUMMARY:Ricky Amigos
DESCRIPTION:en trio
URL:https://ecran-du-son.com/event/ricky-amigos-3/
LOCATION:Médiathèque André Labarrère / Pau\, Place Marguerite Laborde\, Pau\, 64000\, France
CATEGORIES:Gratuit
END:VEVENT
BEGIN:VEVENT
DTSTART;TZID=Europe/Paris:20260121T193000
DTEND;TZID=Europe/Paris:20260121T193000
DTSTAMP:20260422T162805
CREATED:20260121T052614Z
LAST-MODIFIED:20260121T052932Z
UID:60076-1769023800-1769023800@ecran-du-son.com
SUMMARY:Soirée Duke Ellington
DESCRIPTION:Soirée Duke Ellington\, quelques un des titres qui ont fait de lui un géant du swingChristophe Barennes au Piano\,Jean Pierre Lacroix à la contrebasse\,Fred Piau au sax……et nos deux invités :la chanteuse Nathalie Schwartzet Christophe Huguel à la trompette
URL:https://ecran-du-son.com/event/soiree-duke-ellington/
LOCATION:Le Durango Café / Pau\, 20 Rue du Hedas\, Pau\, 64000\, France
CATEGORIES:Gratuit
END:VEVENT
BEGIN:VEVENT
DTSTART;TZID=Europe/Paris:20260123T183000
DTEND;TZID=Europe/Paris:20260123T183000
DTSTAMP:20260422T162805
CREATED:20260119T082913Z
LAST-MODIFIED:20260119T083000Z
UID:60032-1769193000-1769193000@ecran-du-son.com
SUMMARY:Concert des élèves du Conservatoire
DESCRIPTION:Une soixantaine d’élèves du Conservatoire proposent un concert consacré aux musiques d’Amérique latine\, à travers plusieurs tableaux musicaux.\nLe programme nous conduit des cimes des montagnes sacrées des Andes aux rythmes de Cuba\, du Brésil et de l’Argentine. Les jeunes musiciens interprètent des œuvres des XXe\net XXIe siècles\, mettant en valeur la diversité des rythmes et des langues de ces régions\, notamment à travers des pièces vocales.
URL:https://ecran-du-son.com/event/concert-des-eleves-du-conservatoire/
LOCATION:Auditorium du Conservatoire / Pau\, Rue des Réparatrices\, Pau\, France
CATEGORIES:Gratuit
END:VEVENT
BEGIN:VEVENT
DTSTART;TZID=Europe/Paris:20260123T200000
DTEND;TZID=Europe/Paris:20260123T200000
DTSTAMP:20260422T162805
CREATED:20260121T053427Z
LAST-MODIFIED:20260121T054630Z
UID:60078-1769198400-1769198400@ecran-du-son.com
SUMMARY:Tyke
DESCRIPTION:Tyke déchire\, dépote\, décoince et entraine le public dans une folle soirée grâce à un répertoire électrique et éclectique !Ce groupe atypique\, étonnant passe de Police et ACDC à Black Eyed Peas et Dua Lipa avec une sincérité qui vous entrainera à bouger votre corps !
URL:https://ecran-du-son.com/event/tyke-2/
LOCATION:La Guinguette des Sardines / Lons\, 15-17 avenue des Frères Mongolfier\, Lons\, 64140\, France
CATEGORIES:Gratuit
END:VEVENT
BEGIN:VEVENT
DTSTART;TZID=Europe/Paris:20260123T213000
DTEND;TZID=Europe/Paris:20260123T213000
DTSTAMP:20260422T162805
CREATED:20260112T054303Z
LAST-MODIFIED:20260112T054707Z
UID:59964-1769203800-1769203800@ecran-du-son.com
SUMMARY:Narita
DESCRIPTION:NARITA… c’est 5 types enragés\, 4 voix énervées\, 3 guitares enflammées et 2 baguettes agitées … Mais 1 seule idée en tête : transmettre notre énergie pour que le public passe un très bon moment.Nous sommes basés à Bordes (64510) entre Pau et Nay.Notre style est résolument Rock\, voire Hard-rock\, énergique et festif.En 3 mots : du rock\, du rock et …. du ROOOOOOOOOCK !Narita sert un rock énergique\, mêlant compos et covers rock des années 70 à 90\, à la sauce Narita.Les compos sont festives\, les thématiques engagées voire philosophiques.On remarquera des notes complexes de fruits rouges (griotte !!) et d’épices (indienne et 2 tu l’auras)\, une attaque franche avec une touche boisée (ébène ou palissandre).Les refrains sont capiteux et dégagent un nez puissant (y a qu’à voir celui de Scally !!).Le tout est charpenté\, corsé et énergique\, mais ça reste frais malgré tout.Ça s’écoute en secouant la tête\, d’avant en arrière ou de gauche à droite\, c’est comme vous voulez.Servir avec de la bière et du pâté
URL:https://ecran-du-son.com/event/narita/
LOCATION:Jam Pub / Lescar\, 8 avenue André Marie Ampère\, Lescar\, 64230\, France
CATEGORIES:Gratuit
END:VEVENT
BEGIN:VEVENT
DTSTART;TZID=Europe/Paris:20260124T180000
DTEND;TZID=Europe/Paris:20260124T180000
DTSTAMP:20260422T162805
CREATED:20260108T080913Z
LAST-MODIFIED:20260108T081155Z
UID:59919-1769277600-1769277600@ecran-du-son.com
SUMMARY:Family Session – Music Family
DESCRIPTION:Une soirée spéciale Music Family qui présente les différents groupes des « Family Sessions ». L’occasion de découvrir les morceaux proposés par les élèves des différents ateliers. \nLe 24 janvier 2026 à partir de 18h00\, les groupes des Family Sessions se retrouvent pour une soirée conviviale où vous découvrirez le répertoire travaillé pendant plusieurs semaines! \nCes ateliers organisés par l’association Music Family\, regroupent des musiciens amateurs de tout âge qui partagent la même passion pour la musique.
URL:https://ecran-du-son.com/event/family-session-music-family/
LOCATION:La Route du Son / Billère\, 51 allée Montesquieu\, BILLERE\, 64140\, France
CATEGORIES:Gratuit
END:VEVENT
BEGIN:VEVENT
DTSTART;TZID=Europe/Paris:20260125T110000
DTEND;TZID=Europe/Paris:20260125T170000
DTSTAMP:20260422T162805
CREATED:20260102T193001Z
LAST-MODIFIED:20260102T193005Z
UID:59905-1769338800-1769360400@ecran-du-son.com
SUMMARY:Marlène
DESCRIPTION:
URL:https://ecran-du-son.com/event/marlene-3/
LOCATION:Halles de Pau\, Place de la République\, Pau
CATEGORIES:Gratuit
END:VEVENT
END:VCALENDAR